BEGIN:VCALENDAR
VERSION:2.0
PRODID:-//Nomads Adventure Services - ECPv6.9.0//NONSGML v1.0//EN
CALSCALE:GREGORIAN
METHOD:PUBLISH
X-WR-CALNAME:Nomads Adventure Services
X-ORIGINAL-URL:https://nastours.pk
X-WR-CALDESC:Events for Nomads Adventure Services
REFRESH-INTERVAL;VALUE=DURATION:PT1H
X-Robots-Tag:noindex
X-PUBLISHED-TTL:PT1H
BEGIN:VTIMEZONE
TZID:Indian/Reunion
BEGIN:STANDARD
TZOFFSETFROM:+0400
TZOFFSETTO:+0400
TZNAME:+04
DTSTART:20250101T000000
END:STANDARD
END:VTIMEZONE
BEGIN:VEVENT
DTSTART;VALUE=DATE:20250122
DTEND;VALUE=DATE:20250123
DTSTAMP:20260426T054623
CREATED:20250217T135651Z
LAST-MODIFIED:20251021T123323Z
UID:2221-1737504000-1737590399@nastours.pk
SUMMARY:WEEKEND TRIP TO GORAKH HILLS
DESCRIPTION:Confirmation FormPlease enable JavaScript in your browser to complete this form.Name *FirstLastEmail *Phone Number (WhatsApp)Tour Title Name (at the top)Comment or MessageSubmit  \n  \n \n*WEEKEND TRIP TO GORAKH HILL* \nITINERARY \nDAY 00 – Friday \n• 11:30 PM: Meet up time \nDAY 01 – Saturday \n• 12:30 AM: Departure from Karachi \n• 03:30 AM: Rest Room Break – Jamshoro \n• 06:00 AM: Breakfast at Sehwan Restaurant \n• 07:00 AM: Departure from Sehwan \n• 09:00 AM: Arrival at Wahi Pandi (Gorakh Base Camp) \n• 09:30 AM: Departure for Gorakh Hill via 4×4 Jeeps \n• 01:30 PM: Arrival at Gorakh Hill Station \n• 02:00 PM: Distribution of camps (03 persons sharing) \n• 02:30 PM: Lunch at Gorakh Hill \n• 04:30 PM: Hike towards Benazir Point (15 Minute Hike) Sunset view from top \n• 06:00 PM to 09:00 PM: Rest Time \n• 09:00 PM: Dinner \n• 10:00 PM: Bonfire under infinite stars \n• 12:30 AM: Basic stargazing & long exposure photography at Helipad (subject to moon visibility). Night stay in camps \nDAY 02 – Sunday \n• 06:00 AM: Enjoy the mesmerizing sunrise \n• 07:30 AM: Breakfast at G-Resort \n• 08:00 AM: Departure from Gorakh Hills \n• 10:00 AM: Arrival at Wahi Pandi \n• 12:30 PM: Arrival at Sehwan for Lunch \n• 04:30 PM: Arrival at Hyderabad. Short stop for Washroom \n• 06:00 PM to 07:00 PM: Arrival Karachi \nNote: Few hours’ deviation in the basic itinerary is normal. \nPRICE: \n• PKR 16\,500/- (Per Person) \n• On group of 03 or more 15\,500 /-( Per Person) \n• Extra PKR 2\,500/- (For Twin Sharing Camp) \nPACKAGE INCLUDES: \n• Luxurious AC Transport \n• Accommodation in Camps (3 persons Sharing Basis). \n• Bonfire & Music \n• Meals mentioned in the itinerary are included \n• Services of a Nomads Tour Guide \n• Basic First Aid Kit \nNOTE: \n-Please carry original CNIC with you at all times during the trip \n–Please do not throw away trash or garbage of any type during the trip. The trip facilitator will collect garbage in trash bags at each location. It is our collective responsibility to keep our environment clean.    
URL:https://nastours.pk/event/weekend-trip-to-gorakh-hill/
CATEGORIES:South Group Tours
ATTACH;FMTTYPE=image/jpeg:https://nastours.pk/wp-content/uploads/2025/02/WhatsApp-Image-2025-10-06-at-3.56.45-PM.jpeg
ORGANIZER;CN="Nomads":MAILTO:nomadsadventureservices@gmail.com
END:VEVENT
BEGIN:VEVENT
DTSTART;VALUE=DATE:20250122
DTEND;VALUE=DATE:20250123
DTSTAMP:20260426T054623
CREATED:20250211T120117Z
LAST-MODIFIED:20250828T193113Z
UID:2144-1737504000-1737590399@nastours.pk
SUMMARY:04 DAYS 04 NIGHTS TRIP TO BAKU\, AZERBAIJAN
DESCRIPTION:Confirmation FormPlease enable JavaScript in your browser to complete this form.Name *FirstLastEmail *Phone Number (WhatsApp)Tour Title Name (at the top)Comment or MessageSubmit  \n   \nDETAILED ITINERARY\nDay 01:\nArrival & Transfer \n\nArrival in Baku airport\nMeet with the Driver and transfer to the hotel\nArrival\, check in hotel\nFree time to explore the city on your own\n\nNight Stay at: \n\nOvernight Stay at Baku\n\nDay 02:\nBaku Luxurious City Tour \n\nBreakfast at the hotel and pick up the guests at the hotel and start the tour.\nBaku Conference Hall\nCarpet Museum\nLittle Venice and Baku Boulevard\nFlame Towers\nHighland Park\nLunch break: 13:00 – 14:00\nOld City Walking Tour\n\nNight Stay at: \n\nOvernight Stay at Baku\n\nDay 03:\nAbsheron Tour & Heydar Aliyev Center – I love Baku \n\nBreakfast at the hotel: 09:00\nPick up from the hotel at 10:00 and start the tour.\nAbsheron Peninsula Tour\nAteshgah Fire Temple: Explore the historical Zoroastrian religious site.\nYanar Dag: Visit the ‘Burning Mountain\,’ where natural gas has been ablaze for centuries.\nLunch break: 14:00 – 14:30\nHeydar Aliyev Center: Marvel at the groundbreaking architecture of the Heydar Aliyev Center\, designed by Zaha Hadid.\nI Love Baku\nBaku Boulevard: Stroll along the seaside waterfront\, enjoying the sea breeze.\n\nNight Stay at: \n\nAt the end of the tour transfer to Hotel & overnight stay at Baku.\n\nDay 04:\nDeparture & Transfer \n\nMorning breakfast at the Hotel\nLater drop at the airport for your next destination/ flight back\n\nCOST INCLUDES:\n\nAccommodation in Triple sharing rooms (In 3 Star / 4 Star Hotel)\nDaily breakfasts\nTransfer from Baku Airport to Hotel\nTransfer from the Hotel to Baku Airport\nFull-day Baku luxury City Tour\nFull-day Absheron Tour\nAll mentioned transfers with group\nPrivate sedan\, hatchback car or Mercedes minivan\nExclusive Driver\nEnglish Speaking Driver guide\nTourist Visa (1 Month)\n\nCOST EXCLUDES:\n\nExpenses of a personal nature\nAny other services or arrangements not mentioned above\n\nCOSTING:\n\nAll inclusive (Visa\, Airport Transfers\, Complete City Tours\, Round Trip Air Ticket\, Premium Hotels)\n\nWith 3 Star (STANDARD) Hotel – COST: PKR 149\,000\nWith 4 Star (DELUXE) Hotel – COST: PKR 174\,000\nWith 5 Star (LUXURY) Hotel – COST: PKR 199\,000
URL:https://nastours.pk/event/04-days-04-nights-trip-to-baku-azerbaijan/
CATEGORIES:International Private Tour
ATTACH;FMTTYPE=image/jpeg:https://nastours.pk/wp-content/uploads/2025/02/Untitled-1-3.jpg
ORGANIZER;CN="Nomads":MAILTO:nomadsadventureservices@gmail.com
END:VEVENT
END:VCALENDAR