BEGIN:VCALENDAR
VERSION:2.0
PRODID:-//Nomads Adventure Services - ECPv6.9.0//NONSGML v1.0//EN
CALSCALE:GREGORIAN
METHOD:PUBLISH
X-WR-CALNAME:Nomads Adventure Services
X-ORIGINAL-URL:https://nastours.pk
X-WR-CALDESC:Events for Nomads Adventure Services
REFRESH-INTERVAL;VALUE=DURATION:PT1H
X-Robots-Tag:noindex
X-PUBLISHED-TTL:PT1H
BEGIN:VTIMEZONE
TZID:Indian/Reunion
BEGIN:STANDARD
TZOFFSETFROM:+0400
TZOFFSETTO:+0400
TZNAME:+04
DTSTART:20250101T000000
END:STANDARD
END:VTIMEZONE
BEGIN:VEVENT
DTSTART;VALUE=DATE:20250506
DTEND;VALUE=DATE:20270521
DTSTAMP:20260420T023839
CREATED:20260416T100816Z
LAST-MODIFIED:20260416T141404Z
UID:3571-1746489600-1810857599@nastours.pk
SUMMARY:✈BALI - INDONESIA – PRIVATE TOUR (05Nights / 06Days)
DESCRIPTION:✈Nomads Travel & Tours\n\n\n✈️ *Bali (6 Days / 5 Nights)* \n📍 *Day 01: Arrival*\nArrival at Ngurah Rai International Airport.\nMeet and greet with our representative at the airport.\nTransfer to the hotel for check-in.\nOvernight stay at the hotel. \n📍 *Day 02: Watersport Activities & Uluwatu Temple*\nBreakfast at the hotel.\nPick-up from the hotel for watersport activities including:\n1x Banana Boat ride\n1x Jet Ski ride\n1x Couple Parasailing adventure\nLater\, visit Uluwatu Temple\, a famous clifftop temple.\nReturn to the hotel.\nOvernight stay at the hotel. \n📍 *Day 03: Nusa Penida West Island Tour*\nBreakfast at the hotel.\nEarly morning pick-up for the Nusa Penida West Island tour.\nVisit:\nBroken Beach\nKelingking Beach\nAngel’s Billabong\nCrystal Bay\nLunch at a local restaurant.\nReturn to Bali harbor and transfer to the hotel.\nOvernight stay at the hotel. \n📍 *Day 04: Free Day*\nBreakfast at the hotel.\nEnjoy a full day at leisure for relaxation or personal exploration.\nOvernight stay at the hotel. \n📍 *Day 05: Kintamani Tour – Tegalalang Rice Terrace* – Hotel Transfer\nBreakfast at the hotel and check-out.\nPick-up for the Kintamani tour.\nEn route visits include:\nCeluk Village (silver & gold craftsmanship)\nMas Village (wood carving center)\nUbud Art Market\nContinue to Kintamani viewpoint for scenic views of Mount Batur.\nVisit a local coffee plantation.\nExplore Tegalalang Rice Terrace.\nTransfer to the hotel\, check-in.\nOvernight stay at the hotel. \n📍 *Day 06: Departure*\nBreakfast at the hotel.\nCheck-out from the hotel.\nTransfer to the airport for your onward flight. \n\n\n⸻\n\n📍 Nomads Adventure Services\n📞  0330-3580140\n🏢 Office No. 404\, 4th Floor\, Amir Trade Center\, Opp. AL-Habib bank \, Allahwali Chowrangi\, near ARY Jewellers\, Shahrah-e-Quaideen\, S.M.C.H.S\, Karachi
URL:https://nastours.pk/event/%e2%9c%88bali-indonesia-private-tour-05nights-06days-2/
CATEGORIES:Honeymoon International Tour
ATTACH;FMTTYPE=image/jpeg:https://nastours.pk/wp-content/uploads/2026/04/Bali-6-days.jpeg
ORGANIZER;CN="Nomads":MAILTO:nomadsadventureservices@gmail.com
END:VEVENT
BEGIN:VEVENT
DTSTART;VALUE=DATE:20250522
DTEND;VALUE=DATE:20270801
DTSTAMP:20260420T023839
CREATED:20260414T131143Z
LAST-MODIFIED:20260414T131143Z
UID:3542-1747872000-1817078399@nastours.pk
SUMMARY:08 Days 07 Nights Skardu & Hunza By Air
DESCRIPTION:Please enable JavaScript in your browser to complete this form.Name *FirstLastEmail *Phone Number (WhatsApp)Tour Title Name (at the top)Comment or MessageSubmit
URL:https://nastours.pk/event/08-days-07-nights-skardu-hunza-by-air/
CATEGORIES:Private Pakistan Tours
ATTACH;FMTTYPE=image/jpeg:https://nastours.pk/wp-content/uploads/2026/04/skd-valley.jpeg
ORGANIZER;CN="Nomads":MAILTO:nomadsadventureservices@gmail.com
END:VEVENT
BEGIN:VEVENT
DTSTART;VALUE=DATE:20250522
DTEND;VALUE=DATE:20270801
DTSTAMP:20260420T023839
CREATED:20260414T131821Z
LAST-MODIFIED:20260414T131821Z
UID:3546-1747872000-1817078399@nastours.pk
SUMMARY:05 Days 04 Nights Skardu By Air
DESCRIPTION:Please enable JavaScript in your browser to complete this form.Name *FirstLastEmail *Phone Number (WhatsApp)Tour Title Name (at the top)Comment or MessageSubmit
URL:https://nastours.pk/event/05-days-04-nights-skardu-by-air/
CATEGORIES:Private Pakistan Tours
ATTACH;FMTTYPE=image/jpeg:https://nastours.pk/wp-content/uploads/2026/04/hh.jpeg
ORGANIZER;CN="Nomads":MAILTO:nomadsadventureservices@gmail.com
END:VEVENT
BEGIN:VEVENT
DTSTART;VALUE=DATE:20250522
DTEND;VALUE=DATE:20270801
DTSTAMP:20260420T023839
CREATED:20260414T132724Z
LAST-MODIFIED:20260414T132920Z
UID:3550-1747872000-1817078399@nastours.pk
SUMMARY:Murree Nathiagali & Islamabad 05 Days 04 Nights
DESCRIPTION:Please enable JavaScript in your browser to complete this form.Name *FirstLastEmail *Phone Number (WhatsApp)Tour Title Name (at the top)Comment or MessageSubmit
URL:https://nastours.pk/event/murree-nathiagali-islamabad-05-days-04-nights/
CATEGORIES:Private Pakistan Tours
ATTACH;FMTTYPE=image/jpeg:https://nastours.pk/wp-content/uploads/2026/04/isb.jpeg
ORGANIZER;CN="Nomads":MAILTO:nomadsadventureservices@gmail.com
END:VEVENT
BEGIN:VEVENT
DTSTART;VALUE=DATE:20250522
DTEND;VALUE=DATE:20270801
DTSTAMP:20260420T023839
CREATED:20260414T133722Z
LAST-MODIFIED:20260414T133808Z
UID:3554-1747872000-1817078399@nastours.pk
SUMMARY:Swat Kalam Balakot Shogran & Islamabad 07 Days & 06 Nights Private Tour
DESCRIPTION:Please enable JavaScript in your browser to complete this form.Name *FirstLastEmail *Phone Number (WhatsApp)Tour Title Name (at the top)Comment or MessageSubmit
URL:https://nastours.pk/event/swat-kalam-balakot-shogran-islamabad-07-days-06-nights-private-tour/
CATEGORIES:Private Pakistan Tours
ATTACH;FMTTYPE=image/jpeg:https://nastours.pk/wp-content/uploads/2026/04/itn.jpeg
ORGANIZER;CN="Nomads":MAILTO:nomadsadventureservices@gmail.com
END:VEVENT
BEGIN:VEVENT
DTSTART;VALUE=DATE:20250617
DTEND;VALUE=DATE:20270625
DTSTAMP:20260420T023839
CREATED:20260416T104808Z
LAST-MODIFIED:20260416T135154Z
UID:3574-1750118400-1813881599@nastours.pk
SUMMARY:✈Kuala Lumpur + Langkawi – PRIVATE TOUR (06Nights / 07Days)
DESCRIPTION:✈Nomads Travel & Tours\n\n\n\n✈️*07 Days / 06 Nights Group Tour*\nMalaysia (Kuala Lumpur & Langkawi) \n📍 *Day 01: Arrival in Langkawi (Domestic Flight)*\nArrival at Kuala Lumpur International Airport\nMeet & assist\, followed by transfer for domestic flight to Langkawi\nArrival in Langkawi and transfer to hotel\nHotel check-in\nEvening visit to Oriental Village & Langkawi Cable Car area\nOvernight stay in Langkawi \n📍 *Day 02: Langkawi* Mangrove Tour (Half Day)\nBreakfast at the hotel\nHalf-day Mangrove Forest & Island Hopping Tour including:\nBat Cave\nEagle Feeding\nFish Farm\nMangrove Forest exploration\nReturn to hotel\nEvening free for beach time or leisure\nOvernight stay in Langkawi \n📍 *Day 03: Langkawi to Kuala Lumpur*\nBreakfast at the hotel & check-out\nTransfer to airport\nDomestic flight to Kuala Lumpur\nArrival and transfer to hotel\nHotel check-in\nEvening free for rest\, leisure\, or nearby exploration\nOvernight stay in Kuala Lumpur \n📍 *Day 04: Kuala Lumpur City Tour*\nBreakfast at the hotel\nHalf-day Kuala Lumpur City Tour covering:\nPetronas Twin Towers (photo stop)\nKing’s Palace\nNational Mosque\nIndependence Square\nChocolate & Batik outlets\nReturn to hotel\nEvening free\nOvernight stay in Kuala Lumpur \n📍 *Day 05: Free Day (Shopping / Leisure)*\nBreakfast at the hotel\nFull day free for shopping and leisure activities\, including:\nBukit Bintang\nPavilion\nSuria KLCC\nCafés\, malls\, or personal exploration\nOvernight stay in Kuala Lumpur \n📍 *Day 06: Batu Caves & Genting Highlands*\nBreakfast at the hotel\nVisit Batu Caves\nDrive to Genting Highlands\nFree time at Sky Avenue\, theme parks\, and entertainment areas\nReturn to Kuala Lumpur in the evening\nOvernight stay in Kuala Lumpur \n📍 *Day 07: Departure (Airport Transfer)*\nBreakfast at the hotel\nHotel check-out\nTransfer to Kuala Lumpur International Airport for departure \n✔️ *Inclusions:*\nVisa\nReturn air tickets (International & Domestic)\nAirport transfers\nTransportation\nHotel accommodation\nDaily breakfast\nGenting Highlands 2-way cable car tickets \n💰 *Price Per Head:*\nPKR: 359\,000 \n\n\n⸻\n\n📍 Nomads Adventure Services\n📞  0330-3580140\n🏢 Office No. 404\, 4th Floor\, Amir Trade Center\, Opp. AL-Habib bank \, Allahwali Chowrangi\, near ARY Jewellers\, Shahrah-e-Quaideen\, S.M.C.H.S\, Karachi
URL:https://nastours.pk/event/%e2%9c%88kuala-lumpur-langkawi-private-tour-06nights-07days/
CATEGORIES:International Private Tour
ATTACH;FMTTYPE=image/jpeg:https://nastours.pk/wp-content/uploads/2026/04/kul-Lgk-.jpeg
ORGANIZER;CN="Nomads":MAILTO:nomadsadventureservices@gmail.com
END:VEVENT
BEGIN:VEVENT
DTSTART;VALUE=DATE:20250710
DTEND;VALUE=DATE:20270716
DTSTAMP:20260420T023839
CREATED:20260416T092814Z
LAST-MODIFIED:20260416T141300Z
UID:3567-1752105600-1815695999@nastours.pk
SUMMARY:✈BALI - INDONESIA – PRIVATE TOUR (06Nights / 07Days)
DESCRIPTION:✈Nomads Travel & Tours\n\n\n✈️*Bali (7 Days / 6 Nights)* \n📍 *Day 01: Arrival*\nArrival at Ngurah Rai International Airport.\nMeet and greet with our representative at the airport.\nTransfer to the hotel and check-in.\nOvernight stay at the hotel. \n📍 *Day 02: Watersport Activities & Uluwatu Temple*\nBreakfast at the hotel.\nPick-up from the hotel for watersport activities including:\n1x Banana Boat ride\n1x Jet Ski ride\n1x Couple Parasailing adventure\nLater\, visit Uluwatu Temple\, a stunning clifftop temple.\nReturn to the hotel.\nOvernight stay at the hotel. \n📍 *Day 03: Nusa Penida West Island Tour*\nBreakfast at the hotel.\nEarly morning pick-up for Nusa Penida West Island tour.\nVisit:\nBroken Beach\nKelingking Beach\nAngel’s Billabong\nCrystal Bay\nLunch at a local restaurant.\nReturn to Bali harbor and transfer back to the hotel.\nOvernight stay at the hotel. \n📍 *Day 04: Free Day*\nBreakfast at the hotel.\nEnjoy a free day at leisure for relaxation or personal exploration.\nOvernight stay at the hotel. \n📍 *Day 05: Kintamani Tour – Tegalalang Rice Terrace –* Hotel Transfer\nBreakfast at the hotel and check-out.\nPick-up for Kintamani tour.\nEn route visits include:\nCeluk Village (silver & gold crafts)\nMas Village (wood carving)\nUbud Art Market\nContinue to Kintamani viewpoint to enjoy views of Mount Batur.\nVisit a local coffee plantation.\nExplore Tegalalang Rice Terrace.\nTransfer to the hotel\, check-in.\nOvernight stay at the hotel. \n📍 *Day 06: Tirta Empul & Tegenungan Waterfall*\nBreakfast at the hotel.\nPick-up for sightseeing.\nVisit Tirta Empul Temple\, known for its holy spring water.\nContinue to Tegenungan Waterfall.\nReturn to the hotel.\nOvernight stay at the hotel. \n📍 *Day 07: Departure*\nBreakfast at the hotel.\nCheck-out and transfer to the airport for your return flight. \n\n\n⸻\n\n📍 Nomads Adventure Services\n📞  0330-3580140\n🏢 Office No. 404\, 4th Floor\, Amir Trade Center\, Opp. AL-Habib bank \, Allahwali Chowrangi\, near ARY Jewellers\, Shahrah-e-Quaideen\, S.M.C.H.S\, Karachi
URL:https://nastours.pk/event/%e2%9c%88bali-indonesia-private-tour-06nights-07days/
CATEGORIES:Honeymoon International Tour
ATTACH;FMTTYPE=image/jpeg:https://nastours.pk/wp-content/uploads/2026/04/bali-pvt-tour.jpeg
ORGANIZER;CN="Nomads":MAILTO:nomadsadventureservices@gmail.com
END:VEVENT
BEGIN:VEVENT
DTSTART;VALUE=DATE:20260501
DTEND;VALUE=DATE:20260511
DTSTAMP:20260420T023839
CREATED:20250306T155158Z
LAST-MODIFIED:20260414T110833Z
UID:2317-1777593600-1778457599@nastours.pk
SUMMARY:Skardu with Basho Valley - 06 Days From Islamabad - 10 Days From Karachi
DESCRIPTION:  \n  \nSKARDU | SHIGAR | SARFARANGA & Bashu valley/Deosai 2026 Summer season🏔️✨ \n𝗘𝘃𝗲𝗻𝘁 𝗗𝗮𝘁𝗲𝘀: \nEvery Friday Departure from Karachi\nEvery Sunday Departure from Islamabad \n⸻ \n𝗥𝗮𝗽𝗶𝗱 𝗦𝘂𝗺𝗺𝗮𝗿𝘆: \n06 Days from Islamabad\n10 Days from Karachi \n⸻ \n𝗣𝗔𝗖𝗞𝗔𝗚𝗘 𝗣𝗥𝗜𝗖𝗘 (𝗣𝗘𝗥 𝗣𝗘𝗥𝗦𝗢𝗡): \nFrom Islamabad: \nRs. 44\,000/- pp from Islamabad\nRs. 52\,000/- per Couple** \nRs. 50\,000/- pp from ISB with 2 nights of ISB\nRs. 110\,000/- per Couple from ISB with 2 nights of ISB** \nCouples will be allotted separate room to accommodate. \n⸻ \n𝗖𝗛𝗜𝗟𝗗𝗥𝗘𝗡 𝗣𝗢𝗟𝗜𝗖𝗬: \n* Up to 2 years stay free (no seat).\n* 2–7 Years Kids will be charged 50% of the event fee (Basic ISB Package).\n* Mode of Travel from Karachi (Train / Bus / Air) will be charged as per concerned authorities policies.\n* Kids will be allotted folding seats during the trip and will accommodate parents in the hotel. \n⸻ \n𝗗𝗘𝗧𝗔𝗜𝗟𝗘𝗗 𝗧𝗥𝗔𝗩𝗘𝗟 𝗜𝗧𝗜𝗡𝗘𝗥𝗔𝗥𝗬 \n𝗗𝗔𝗬 01: Friday \n* Departure from Karachi\n* (No Food)\nAir option also available for next-day departure \n𝗗𝗔𝗬 02: Saturday \n* Departure by Air (Karachi Guests)\n* Arrival at Rawalpindi Station / Bus Terminal\n* Travel to hotel on your own (Uber | Careem)\n* Short Stay at ISB/RWP\n* Dinner at hotel in Islamabad (Karachi Members) \n𝗗𝗔𝗬 03: Sunday \n* Gathering at Meeting Point\n* Departure for Chilas\n* Breakfast at Besham\n* Short Stay: Dasu\, Summar Nalla\n* Night Stay at Chilas \n𝗗𝗔𝗬 04: Monday \n* Departure for Skardu\n* Nanga Parbat View Point\n* Astak Nalla\n* Visit Shangrila Resort\n* Upper Kachura\n* Night Stay at Skardu \n𝗗𝗔𝗬 05: Tuesday \n* Shigar Valley\n* Shigar Fort\n* Sarfaranga Cold Desert\n* Mantoka Waterfall\n* Night Stay at Skardu \n𝗗𝗔𝗬 06: Wednesday \n* Full day excursion of Bashu Valley via 4×4 jeep\nOR\n* Deosai national park \, bara pani \, kala pani \, sheosar lake\n* Night Stay Skardu \n𝗗𝗔𝗬 07: Thursday \n* Departure for Besham via KKH\n* Short Stay: Dasu\, Besham\, Summar Nalla\n* Night at Besham \n𝗗𝗔𝗬 08: Friday \n* Departure for Islamabad\n* Short Stay: Khanpur Dam (Water Sports)\n* Drop Islamabad Guests\n* Night Stay (Karachi Package Guests) \n⸻ \n𝗗𝗔𝗬 09: Saturday \n* Departure for Karachi (Train / Air Option Available) \n𝗗𝗔𝗬 10: Sunday \n* Arrival Karachi \nEND OF TOUR <<< \n⸻ \n𝗣𝗔𝗖𝗞𝗔𝗚𝗘 𝗜𝗡𝗖𝗟𝗨𝗗𝗘𝗗: \n✅ 2 Meals (Breakfast & Dinner)\n✅ Transport ISB–ISB\n✅ Fuel & Toll Taxes\n✅ Services of Guide\n✅ Basic First Aid Kit\n✅ Hotel Accommodation (3/4 Pax Sharing) \n⸻ \n𝗡𝗢𝗠𝗔𝗗𝗦 𝗔𝗗𝗩𝗘𝗡𝗧𝗨𝗥𝗘 𝗦𝗘𝗥𝗩𝗜𝗖𝗘𝗦 \nOffice No. 404& 403 Fourth Floor\, Amir Trade Center\,\nOpposite Bahria Tower\, Allahwali Chowrangi near ARY Jewellers\,\nShahrah-e-Quaideen\, S.M.C.H.S\, Karachi. \n📞 0330-3580137 – 0330-3580138 – 0330-3580140 – 0330-3580131
URL:https://nastours.pk/event/all-skardu-10-days-from-karachi-08-days-from-islamabad/
CATEGORIES:North Group Tours
ATTACH;FMTTYPE=image/jpeg:https://nastours.pk/wp-content/uploads/2026/02/Skardu-Basho-Valley-posterrr.jpeg
ORGANIZER;CN="Nomads":MAILTO:nomadsadventureservices@gmail.com
END:VEVENT
BEGIN:VEVENT
DTSTART;VALUE=DATE:20260501
DTEND;VALUE=DATE:20270801
DTSTAMP:20260420T023839
CREATED:20260206T152958Z
LAST-MODIFIED:20260414T100412Z
UID:3463-1777593600-1817078399@nastours.pk
SUMMARY:HUNZA & NALTAR Summer Tour - 10 Days 09 Nights KHI - 06 Days 05 Nights ISB
DESCRIPTION:  \n \nHUNZA & NALTAR Summer group tour \nEvent Days:\nEvery Friday Departure from Karachi\nEvery Sunday Departure from Islamabad \n  \nRapid Summary:\n______\n06 Days from Islamabad\n10 Days from Karachi\n______\nPACKAGE PRICE:\nFrom Islamabad:\nRs. 43\,500/- pp from Islamabad\nRs. 99\,000/- per Couple** \nWith Islamabad Stays:\nRs. 49\,000/- pp from ISB with 2 nights of ISB\nRs. 110\,000/- per Couple from ISB with 2 nights of ISB\n**𝘊𝘰𝘶𝘱𝘭𝘦𝘴 𝘸𝘪𝘭𝘭 𝘣𝘦 𝘢𝘭𝘭𝘰𝘵𝘦𝘥 𝘴𝘦𝘱𝘢𝘳𝘢𝘵𝘦 𝘳𝘰𝘰𝘮 𝘵𝘰 𝘢𝘤𝘤𝘰𝘮𝘮𝘰𝘥𝘢𝘵𝘦. \n𝘔𝘰𝘥𝘦 𝘰𝘧 𝘛𝘳𝘢𝘷𝘦𝘭 𝘧𝘳𝘰𝘮 𝘒𝘢𝘳𝘢𝘤𝘩𝘪:\n𝘢𝘴 𝘱𝘦𝘳 𝘺𝘰𝘶𝘳 𝘰𝘸𝘯 𝘤𝘩𝘰𝘪𝘤𝘦 & 𝘸𝘪𝘭𝘭 𝘣𝘦 𝘢𝘥𝘥𝘦𝘥 𝘪𝘯𝘵𝘰 𝘱𝘢𝘤𝘬𝘢𝘨𝘦\n______\nDETAILED TRAVEL ITINERARY:\n______\nDAY 01: Friday\n______\n– Departure from Karachi\n(No Food) \nDAY 02: Saturday\n______\n– Arrival at Rawalpindi station/ Bus terminal\n– Travel to the hotel on your own (Uber | Careem)\n– Check in Islamabad Hotel\n– Dinner at hotel in Islamabad for Karachi members at 10:00 PM\n– Night Stay Islamabad\n(Dinner) \nDAY 03: Sunday\n______\nDeaprture for chillas\n– Arrival & Night at Chilas\nCheckin at hotel\n(BF-Dinner) \nDAY 04: Monday\n______\n– Departure for Hunza\n– Enroute Short Stay:\n– 3 Mountain junctions Point\n– Nanga Parbat View Point\n– Rakaposhi View Point\n– Check Inn Hotel @ Hunza Nagar\n– Dinner and Night Stay at Hunza\n(BF+Dinner) \nDAY 05: Tuesday\n______\n– Breakfast call\n– Departure for China Border\n– Attabad Tunnel – Attabad Lake\n– Sost & Passu\n– Khunjrab Pak-China Border\n– Arrival back at hotel\n– Dinner & Night Stay Hunza Nagar\n(BF+Dinner) \nDAY 06: Wednesday\n______\n– Morning Departure\n– Arrival Nomal\n– Get into Jeeps 4X4\n– Day Exploration of Nalter Valley\n– Zero Point\, Pari Lake -Blue Lake – Satrangi Lake\n– Dinner and Night Stay at Naltar\n(BF+Dinner) \nDAY 07: Thursday\n______\n– Departure for besham or naran\n– Dinner and Night Stay at besham\n(BF+Dinner) \nDAY 08: Friday\n______\n– Deaprture for ISB\n– Visit Khanpur dam\n– Water Sport Activities at Khanpur Dam\n– Back to Islamabad\n– Arrival at Islamabad -Drop ISB Package Guest\n– Dinner at hotel 10:00 (KHI Guest):\n– Night stay at a hotel for Karachi Package members\n(BF+Dinner) \n<< 𝘌𝘯𝘥 𝘰𝘧 𝘚𝘦𝘳𝘷𝘪𝘤𝘦𝘴 >> \nDAY 09: Saturday\n______\n– Get on Train | Bus (on your own)\n– Departure for Karachi\n(No Food) \nDAY 10: Sunday \n______ \n-Arrival Karachi \n𝗘𝗡𝗗 𝗢𝗙 𝗧𝗢𝗨𝗥. \n𝗣𝗔𝗖𝗞𝗔𝗚𝗘 𝗜𝗡𝗖𝗨𝗗𝗘𝗗: \n💁‍♂️ 2 Meals BF and Dinner\n💁‍♂️ Luxury Transport\n💁‍♂️ Tool Taxes\n💁‍♂️ Services of a Guide\n💁‍♂️ Hotel Accommodation (3/4 Pax Sharing)\n💁‍♂️ Jeep Charges Nalter \n𝗣𝗔𝗖𝗞𝗔𝗚𝗘 𝗡𝗢𝗧 𝗜𝗡𝗖𝗨𝗗𝗘𝗗: \n🙅 Porters (for carrying personal equipment of participant)\n🙅 Extra expenses due to landslides | road blocks 🙅 Extra expenses due to the acts of nature and political reasons etc.\n🙅 Lunch\, Tea\, Mineral water and Cold drinks expense\n🙅 Entry Fee of Museum | Ski Resort | Forts\n🙅 Parasailing\, Boating\, Chair lift Charges\, zipline\n🙅 any item not mentioned above \nNOMADS ADVENTURE SERVICES:\nFor Booking & Details/Cash Payments:\nOffice 404 & 403 fourth floor Amir Trade Center\, shahra e quaideen at Allahwali Chowrangi near ARY Jewellers\nS.M.C.H.S Karachi\n+92 330 3580137\n+92 330 3580138\n+92 330 3580140\n+92 333 1666237
URL:https://nastours.pk/event/hunza-naltar-valley/
CATEGORIES:North Group Tours
ATTACH;FMTTYPE=image/jpeg:https://nastours.pk/wp-content/uploads/2026/02/Hunza-Posterrr.jpeg
ORGANIZER;CN="Nomads":MAILTO:nomadsadventureservices@gmail.com
END:VEVENT
BEGIN:VEVENT
DTSTART;VALUE=DATE:20260501
DTEND;VALUE=DATE:20260908
DTSTAMP:20260420T023839
CREATED:20260206T153414Z
LAST-MODIFIED:20260414T111054Z
UID:3466-1777593600-1788825599@nastours.pk
SUMMARY:HUNZA & SKARDU Blossom Group Tour - 12 Days 11 Nights KHI - 08 Days 07 Nights ISB
DESCRIPTION:  \n  \n \n  \n  \nHUNZA & SKARDU 2026 Summer group tour \nEvent Days:\nEvery Friday Departure from Karachi\nEvery Sunday Departure from Islamabad \nRapid Summary:\n______\n08 Days from Islamabad\n12 Days from Karachi\n______\nPACKAGE PRICE: \nFrom Islamabad:\nRs. 56\,000/- pp from Islamabad\nRs. 124\,000/- per Couple \nWith Islamabad Stays:\nRs. 62\,000/- pp from ISB with 2 nights of ISB\nRs. 135\,000/- per Couple from ISB with 2 nights of ISB** \n**married c𝘰𝘶𝘱𝘭e 𝘸𝘪𝘭𝘭 𝘣𝘦 𝘢𝘭𝘭𝘰𝘵𝘦𝘥 𝘴𝘦𝘱𝘢𝘳𝘢𝘵𝘦 𝘳𝘰𝘰𝘮 𝘵𝘰 𝘢𝘤𝘤𝘰𝘮𝘮𝘰𝘥𝘢𝘵𝘦. \n𝘔𝘰𝘥𝘦 𝘰𝘧 𝘛𝘳𝘢𝘷𝘦𝘭 𝘧𝘳𝘰𝘮 𝘒𝘢𝘳𝘢𝘤𝘩𝘪:\n𝘢𝘴 𝘱𝘦𝘳 𝘺𝘰𝘶𝘳 𝘰𝘸𝘯 𝘤𝘩𝘰𝘪𝘤𝘦 & 𝘸𝘪𝘭𝘭 𝘣𝘦 𝘢𝘥𝘥𝘦𝘥 𝘪𝘯𝘵𝘰 𝘱𝘢𝘤𝘬𝘢𝘨𝘦\n______\nDETAILED TRAVEL ITINERARY:\n______\nDAY 01: Friday\n______\n– Departure from Karachi\n(No Food) \nDAY 02: Saturday\n______\n– Arrival at Rawalpindi station/ Bus terminal\n– Travel to the hotel on your own (Uber | Careem)\n– Check in Islamabad Hotel\n– Dinner at hotel in Islamabad for Karachi members at 10:00 PM\n– Night Stay Islamabad\n(Dinner) \nDAY 03: Sunday\n______ \n– Departure for Chilas\n(Apr till June Via Besham KKH)\n– Besham\, Dasu\, Summar nala\n(Mid june till sept via naran)\n– Arrival & Night at Chilas\n(BF-Dinner) \nDAY 04: Monday\n______ \n– Departure for Skardu\n– 3 Mountain Junction\n– Astak\, Upper Kachura Lake/Shangri-la Resort\n– Night Stay at Skardu\n(BF-Dinner) \nDAY 05: Tuesday\n______ \n– Departure for Shigar Valley\n– Safranga Cold desert & Manthoka\n– Dinner & Night stay at Skardu\n(BF-Dinner) \nDAY 06: Wednesday\n______ \n– Get in Jeeps (4×4)\n– Day Trip to explore Deosai Plain\n– Bara Pani\, Kala Pani\, Shoutang Nala\, Sheosar Lake\n(if Deosai route closed by any mean then will explore Bashu Valley)\n– Night Stay Skardu\n(BF-Dinner) \nDAY 07: Thursday\n______ \n– Departure for Hunza\n– Rakaposhi-Altitfort – Karimabad bazar\n– Night Stay in Hunza Valley\n(BF-Dinner) \nDAY 08: Friday\n______ \n– Visit Till Khunjerab\n– Explore & Visit:\n– Attabad lake – Passu cones – Sost border & hussaini bridge\n– Night Stay in Hunza \nDAY 09: Saturday\n______ \n– Departure for Besham\n(Apr till June Via KKH to Besham)\n(Mid june till sept via naran)\n– Chilas\, Lulusar\, Batakundi\, Naran\n– Arrival & Night Stay Besham / Naran\n(BF-Dinner) \nDAY 10: Sunday\n______ \n– Back to Islamabad\n– Visit khanpur dam\n– water sports activities\n– Arrival & Drop ISB Guest at Islamabad\n– Dinner & Night Stay at Hotel \nEnd of Services!!! \nDAY 11: Monday\n______ \n– Departure for Karachi\nNote: By Air option also available and will depart for Karachi on this day. \nDAY 12: Tuesday\n______ \n– Arrival Karachi \n𝗘𝗡𝗗 𝗢𝗙 𝗧𝗢𝗨𝗥. \n𝗣𝗔𝗖𝗞𝗔𝗚𝗘 𝗜𝗡𝗖𝗨𝗗𝗘𝗗: \n💁‍♂️ 2 Meals BF and Dinner\n💁‍♂️ Luxury Transport\n💁‍♂️ Tool Taxes\n💁‍♂️ Services of a Guide\n💁‍♂️ Hotel Accommodation (3/4 Pax Sharing)\n💁‍♂️ Jeep Charges Bashu \n𝗣𝗔𝗖𝗞𝗔𝗚𝗘 𝗡𝗢𝗧 𝗜𝗡𝗖𝗨𝗗𝗘𝗗: \n🙅 Porters (for carrying personal equipment of participant)\n🙅 Extra expenses due to landslides | road blocks 🙅 Extra expenses due to the acts of nature and political reasons etc.\n🙅 Lunch\, Tea\, Mineral water and Cold drinks expense\n🙅 Entry Fee of Museum | Ski Resort | Forts\n🙅 Parasailing\, Boating\, Chair lift Charges\, zipline\n🙅 any item not mentioned above \nNOMADS ADVENTURE SERVICES: \n0330-3580137 – 0330-3580138 – 0330-3580131 – 0330-358140 \nFor Booking & Details/Cash Payments:\nOffice No # 404 & 403 Fourth Floor\, Amir Trade Center\, Adjacent Ary Jewellers at Allahwali Chowrangi\nShahrah-e-Quaideen S.M.C.H.S Karachi
URL:https://nastours.pk/event/hunza-skardu/
CATEGORIES:North Group Tours
ATTACH;FMTTYPE=image/jpeg:https://nastours.pk/wp-content/uploads/2026/02/Hunza-Skardu-posterrrr.jpeg
ORGANIZER;CN="Nomads":MAILTO:nomadsadventureservices@gmail.com
END:VEVENT
BEGIN:VEVENT
DTSTART;VALUE=DATE:20260501
DTEND;VALUE=DATE:20270511
DTSTAMP:20260420T023839
CREATED:20260414T120559Z
LAST-MODIFIED:20260414T123008Z
UID:3533-1777593600-1809993599@nastours.pk
SUMMARY:Kashmir  Arangkel - 09 Days 08 Nights KHI - 05 Days 04 Nights ISB
DESCRIPTION:  \n\n \n\nSummer season 2026 – Arang Kel & Taobat Retreat\n\n9 Days | 8 Nights | A Journey Into Untouched Paradise\n\nEscape the ordinary and step into the magical landscapes of Kashmir with NOMADS. From the crystal-clear flow of the Neelum River to the fairytale meadows of Arang Kel and the serene beauty of Taobat\, this journey is crafted for travelers who seek nature\, adventure\, and unforgettable memories.\n\nPerfect for families\, couples\, and young explorers looking to experience Northern Pakistan at its finest.\n\n⸻\n\n📅 DEPARTURE OPTIONS\n\nBy Road (Bus/Train)\n🗓 Departure: Every friday from karachi in may june july august 2026\n🗓 Return: Every Saturday morning\n\nBy Air\n🗓 Departure: Every saturday – Afternoon/Evening\n🗓 Return: Every Friday Morning/evening\n\n⸻\n\n📍 DESTINATIONS COVERED\n\nIslamabad • Kashmir Waterfalls • Dhani Waterfall • Neelum–Jhelum Hydropower Project • Kutton • Kundal Shahi • Keran • LOC Viewpoint • Sharda • Taobat • Arang Kel • Balakot • Khanpur Lake\n\n⸻\n\n🗺 DETAILED ITINERARY\n\nDay 01 – Departure from Karachi\n\nBegin your journey towards Islamabad via Bus/Train.\n(Air travelers depart next day)\n\n⸻\n\nDay 02 – Arrival in Islamabad\n\nArrival in Islamabad/Rawalpindi.\nCheck-in\, rest\, and dinner.\n\n🏨 Hotel: Premium Standard (Sazeen / Index or equivalent)\n\n⸻\n\nDay 03 – Islamabad → Sharda\n\nEarly morning departure towards Kashmir.\nScenic drive along Neelum Valley with stops at:\n•Dhani Waterfall\n•Kashmir Abshar\n•Keran & LOC Viewpoint\n\nArrival in Sharda by evening.\n\n🏨 Hotel: Shangrilla Sharda / Wadi Resort\n\n⸻\n\nDay 04 – Sharda → Taobat (4×4 Adventure)\n\nJeep safari through breathtaking terrain to Taobat.\nExplore:\n•Taobat Village\n•Bailey Bridge\n•Taobat Bala\n\n🏨 Hotel: Shangrilla Taobat\n\n⸻\n\nDay 05 – Taobat → Arang Kel\n\nTravel via jeep to Kel.\nCross river via cable car (self-paid) and trek to Arang Kel.\n\nExperience sunset over the magical meadows.\n\n🏨 Stay: Mountain Cottages (Second Home or equivalent)\n\n⸻\n\nDay 06 – Arang Kel → Keran\n\nTrek back to Kel and travel towards Keran via Sharda.\n\n🏨 Hotel: Wonder hills or equivalent\n\n⸻\n\nDay 07 – Keran → Islamabad\n\nVisit:\n•Kutton Valley\n•Kundal Shahi Waterfall\n\nReturn to Islamabad by evening.\n\n🏨 Overnight stay for Karachi participants\n\n⸻\n\nDay 08 – Islamabad → Karachi\n\nDeparture for Karachi via Bus/Train or Flight.\n\n⸻\n\nDay 09 – Arrival in Karachi\n\nEnd of a memorable NOMADS journey ❤️\n\n⸻\n\n💰 PACKAGE PRICING (Per Person)\n\nWith Islamabad Stays\n•Quad Sharing: Rs. 46\,500\n•Triple Sharing: Rs. 48\,500\n•Twin Sharing: Rs. 52\,500\n•Solo: Rs. 76\,500\n\nWithout Islamabad Stays\n•Quad Sharing: Rs. 42\,500\n•Triple Sharing: Rs. 44\,500\n•Twin Sharing: Rs. 46\,500\n•Solo: Rs. 62\,500\n\n⸻\n\n👶 CHILD POLICY\n•Below 4 years: FREE (No seat)\n•4–7 years: 50% (Jumper seat)\n•Above 7 years: Full charges\n\n⸻\n\n✅ SERVICES INCLUDED\n\n✔ Luxury Transport (Coaster / Grand Cabin)\n✔ Hotel Accommodation\n✔ Daily Breakfast & Dinner\n✔ 4×4 Jeep for Taobat & Kel\n✔ Professional Tour Guide\n✔ Basic Photography\n✔ First Aid & Travel Support\n✔ All Fuel\, Tolls & Taxes\n\n⸻\n\n❌ SERVICES NOT INCLUDED\n\n✘ Karachi–Islamabad Tickets (Air/Bus/Train)\n✘ Lunch & Snacks\n✘ Cable Car / Activities / Entry Tickets\n✘ Personal Expenses & Insurance\n✘ Extra Jeep / Horse / Local Guide Charges\n\n⸻\n\n🍽 MEAL PLAN\n\nBreakfast: Paratha\, Omelette\, Tea\, Water\nDinner: Chicken Karahi/Handi or Biryani/Pulao + Roti\, Raita\, Drinks\n\n⸻\n\n➕ ADD-ONS (Optional)\n\n🎟 Transport Tickets (Bus/Train/Air) available on request\n🚗 Airport Transfers available\n\n⸻\n\n⚠️ IMPORTANT NOTES\n•50% advance required for booking\n•Seats are allocated on rotation basis\n•Travel light (recommended luggage: 10kg)\n•Carry CNIC & essential medications\n•Weather & road conditions may affect itinerary\n\n⸻\n\n📞 BOOK YOUR ADVENTURE NOW\n\nNOMADS Adventure Services\n📲 Call / WhatsApp:\n03303580131\n03303580137\n03303580138\n03303580140\n\n🌐 Website: https://nastours.pk\n\n⸻\n\n✨ Travel Beyond Limits with NOMADS
URL:https://nastours.pk/event/kashmir-summer-tour-9-days-08-nights-khi-05-days-04-nights-isb/
CATEGORIES:North Group Tours
ATTACH;FMTTYPE=image/jpeg:https://nastours.pk/wp-content/uploads/2026/04/Kahmir-posterrr.jpeg
ORGANIZER;CN="Nomads":MAILTO:nomadsadventureservices@gmail.com
END:VEVENT
END:VCALENDAR